BEGIN:VCALENDAR
VERSION:2.0
PRODID:-//North Suburban Synagogue Beth El - ECPv5.16.1.1//NONSGML v1.0//EN
CALSCALE:GREGORIAN
METHOD:PUBLISH
X-WR-CALNAME:North Suburban Synagogue Beth El
X-ORIGINAL-URL:https://www.nssbethel.org
X-WR-CALDESC:Events for North Suburban Synagogue Beth El
BEGIN:VTIMEZONE
TZID:America/Chicago
BEGIN:DAYLIGHT
TZOFFSETFROM:-0600
TZOFFSETTO:-0500
TZNAME:CDT
DTSTART:20210314T080000
END:DAYLIGHT
BEGIN:STANDARD
TZOFFSETFROM:-0500
TZOFFSETTO:-0600
TZNAME:CST
DTSTART:20211107T070000
END:STANDARD
END:VTIMEZONE
BEGIN:VEVENT
DTSTART;TZID=America/Chicago:20210707T093000
DTEND;TZID=America/Chicago:20210707T103000
DTSTAMP:20260420T022653
CREATED:20210505T160436Z
LAST-MODIFIED:20210620T165913Z
UID:41624-1625650200-1625653800@www.nssbethel.org
SUMMARY:Writer's Beit Midrash In-Person
DESCRIPTION:All fiction\, non-fiction\, poetry\, memoir\, and essay writers (published or not yet published) are welcome for discussions\, exercises\, camaraderie\, and critique every other Wednesday morning outside on the Beth El library porch. \nContact Rachel at rkamin@nssbethel.org for more information and to be added to the mailing list.    \nSign up
URL:https://www.nssbethel.org/event/writers-beit-midrash-in-person-2021-07-07/
LOCATION:North Suburban Synagogue Beth El\, 1175 Sheridan Rd.\, Highland Park\, IL\, 60035\, United States
CATEGORIES:Cultural Learning Center
ATTACH;FMTTYPE=image/jpeg:https://www.nssbethel.org/wp-content/uploads/2021/05/writersworkshop.jpg
END:VEVENT
BEGIN:VEVENT
DTSTART;TZID=America/Chicago:20210707T130000
DTEND;TZID=America/Chicago:20210707T140000
DTSTAMP:20260420T022653
CREATED:20210604T201909Z
LAST-MODIFIED:20210610T155432Z
UID:42296-1625662800-1625666400@www.nssbethel.org
SUMMARY:Summer Stories Series In-Person
DESCRIPTION:The ten contemporary stories in Nicole Krauss’s new collection\, To Be a Man\, deal with the struggle to understand what it is to be a man and what it is to be a woman\, and all of the tensions in the relationships between parents and children\, lovers and friends\, husbands and wives. They span the globe with many of the characters living with their feet in the United States and their hearts in Israel. Summer Quarter Fee: $60 for Beth El members; $125 for non-members. Class fee includes a hardcover copy of the book. \nWe will meet in the Beth El backyard. \nRegister Here
URL:https://www.nssbethel.org/event/summer-stories-series-in-person/
LOCATION:North Suburban Synagogue Beth El\, 1175 Sheridan Rd.\, Highland Park\, IL\, 60035\, United States
CATEGORIES:Cultural Learning Center
END:VEVENT
BEGIN:VEVENT
DTSTART;TZID=America/Chicago:20210707T194500
DTEND;TZID=America/Chicago:20210707T210000
DTSTAMP:20260420T022653
CREATED:20210429T175245Z
LAST-MODIFIED:20210610T155239Z
UID:41535-1625687100-1625691600@www.nssbethel.org
SUMMARY:Summer Stories Series
DESCRIPTION:The ten contemporary stories in Nicole Krauss’s new collection\, To Be a Man\, deal with the struggle to understand what it is to be a man and what it is to be a woman\, and all of the tensions in the relationships between parents and children\, lovers and friends\, husbands and wives. They span the globe with many of the characters living with their feet in the United States and their hearts in Israel. Summer Quarter Fee: $60 for Beth El members; $125 for non-members. Class fee includes a hardcover copy of the book. \nWe will meet on Zoom. \nRegister here
URL:https://www.nssbethel.org/event/summer-stories-series/
LOCATION:North Suburban Synagogue Beth El\, 1175 Sheridan Rd.\, Highland Park\, IL\, 60035\, United States
CATEGORIES:Cultural Learning Center
END:VEVENT
END:VCALENDAR