BEGIN:VCALENDAR
VERSION:2.0
PRODID:-//North Suburban Synagogue Beth El - ECPv5.16.1.1//NONSGML v1.0//EN
CALSCALE:GREGORIAN
METHOD:PUBLISH
X-WR-CALNAME:North Suburban Synagogue Beth El
X-ORIGINAL-URL:https://www.nssbethel.org
X-WR-CALDESC:Events for North Suburban Synagogue Beth El
BEGIN:VTIMEZONE
TZID:America/Chicago
BEGIN:DAYLIGHT
TZOFFSETFROM:-0600
TZOFFSETTO:-0500
TZNAME:CDT
DTSTART:20210314T080000
END:DAYLIGHT
BEGIN:STANDARD
TZOFFSETFROM:-0500
TZOFFSETTO:-0600
TZNAME:CST
DTSTART:20211107T070000
END:STANDARD
END:VTIMEZONE
BEGIN:VEVENT
DTSTART;TZID=America/Chicago:20211118T093000
DTEND;TZID=America/Chicago:20211118T110000
DTSTAMP:20260419T171428
CREATED:20210809T175519Z
LAST-MODIFIED:20211108T220329Z
UID:44373-1637227800-1637233200@www.nssbethel.org
SUMMARY:Social Justice (Melton/Moriah) with Rabbi Yehoshua Ben Avraham
DESCRIPTION:Class Offerings and Descriptions \n \n 
URL:https://www.nssbethel.org/event/social-justice-melton-moriah-with-rabbi-yehoshua-ben-avraham-2021-11-18/
LOCATION:North Suburban Synagogue Beth El\, 1175 Sheridan Rd.\, Highland Park\, IL\, 60035\, United States
CATEGORIES:Continuing Education
END:VEVENT
BEGIN:VEVENT
DTSTART;TZID=America/Chicago:20211118T120000
DTEND;TZID=America/Chicago:20211118T130000
DTSTAMP:20260419T171428
CREATED:20210809T194958Z
LAST-MODIFIED:20211201T144156Z
UID:46814-1637236800-1637240400@www.nssbethel.org
SUMMARY:Lunch & Learn Virtual with Rabbi Michael Schwab
DESCRIPTION:Grab your lunch and join Rabbi Schwab from the comfort of your own home or office for a study session on Sacrifice. When should we\, or must we\, put ourselves or our material welfare on the line for the sake of others? Relying on source material from biblical and rabbinic texts\, we will discuss the ethical principles and interpretations of Jewish law over the centuries and how to apply these ideas to every day challenges. The class will be held over Zoom. Open to the community\, free of charge. \nZoom Link = https://us02web.zoom.us/j/88602680385?pwd=ckZvVytEbTZBZTBMTXhrMXZYdk1RUT09 \n  \n 
URL:https://www.nssbethel.org/event/lunch-learn-virtual-with-rabbi-michael-schwab-2021-11-18/
LOCATION:North Suburban Synagogue Beth El\, 1175 Sheridan Rd.\, Highland Park\, IL\, 60035\, United States
CATEGORIES:Continuing Education,Featured
ATTACH;FMTTYPE=image/jpeg:https://www.nssbethel.org/wp-content/uploads/2021/08/Michaelbimah-scaled-e1635882001117.jpg
END:VEVENT
BEGIN:VEVENT
DTSTART;TZID=America/Chicago:20211118T180000
DTEND;TZID=America/Chicago:20211118T193000
DTSTAMP:20260419T171428
CREATED:20210809T193725Z
LAST-MODIFIED:20210809T193725Z
UID:44464-1637258400-1637263800@www.nssbethel.org
SUMMARY:Advanced Conversational Hebrew Virtual with Silvi Freedson
DESCRIPTION:Class will not meet on 11/25/2021
URL:https://www.nssbethel.org/event/advanced-conversational-hebrew-virtual-with-silvi-freedson-2021-11-18/
LOCATION:North Suburban Synagogue Beth El\, 1175 Sheridan Rd.\, Highland Park\, IL\, 60035\, United States
CATEGORIES:Continuing Education
END:VEVENT
END:VCALENDAR