BEGIN:VCALENDAR
VERSION:2.0
PRODID:-//North Suburban Synagogue Beth El - ECPv5.16.1.1//NONSGML v1.0//EN
CALSCALE:GREGORIAN
METHOD:PUBLISH
X-WR-CALNAME:North Suburban Synagogue Beth El
X-ORIGINAL-URL:https://www.nssbethel.org
X-WR-CALDESC:Events for North Suburban Synagogue Beth El
BEGIN:VTIMEZONE
TZID:America/Chicago
BEGIN:DAYLIGHT
TZOFFSETFROM:-0600
TZOFFSETTO:-0500
TZNAME:CDT
DTSTART:20210314T080000
END:DAYLIGHT
BEGIN:STANDARD
TZOFFSETFROM:-0500
TZOFFSETTO:-0600
TZNAME:CST
DTSTART:20211107T070000
END:STANDARD
END:VTIMEZONE
BEGIN:VEVENT
DTSTART;TZID=America/Chicago:20211116T083000
DTEND;TZID=America/Chicago:20211116T093000
DTSTAMP:20260419T171428
CREATED:20210809T192722Z
LAST-MODIFIED:20210809T200522Z
UID:44424-1637051400-1637055000@www.nssbethel.org
SUMMARY:Talmud In-Person with Rabbi Michael Schwab
DESCRIPTION:Class will not meet on 11/23/2021 \nClass Offerings and Descriptions \n \n 
URL:https://www.nssbethel.org/event/talmud-in-person-with-rabbi-michael-schwab-2021-11-16/
LOCATION:North Suburban Synagogue Beth El\, 1175 Sheridan Rd.\, Highland Park\, IL\, 60035\, United States
CATEGORIES:Continuing Education
END:VEVENT
BEGIN:VEVENT
DTSTART;TZID=America/Chicago:20211116T110000
DTEND;TZID=America/Chicago:20211116T120000
DTSTAMP:20260419T171428
CREATED:20210809T192840Z
LAST-MODIFIED:20210809T200444Z
UID:44434-1637060400-1637064000@www.nssbethel.org
SUMMARY:Conservative Judaism Virtual with Rabbi Alex Freedman
DESCRIPTION:Class will not meet on 11/23/2021 \nClass Offerings and Descriptions \n \n 
URL:https://www.nssbethel.org/event/conservative-judaism-virtual-with-rabbi-alex-freedman-2021-11-16/
LOCATION:North Suburban Synagogue Beth El\, 1175 Sheridan Rd.\, Highland Park\, IL\, 60035\, United States
CATEGORIES:Continuing Education
END:VEVENT
BEGIN:VEVENT
DTSTART;TZID=America/Chicago:20211116T180000
DTEND;TZID=America/Chicago:20211116T193000
DTSTAMP:20260419T171428
CREATED:20210809T193242Z
LAST-MODIFIED:20210809T200322Z
UID:44444-1637085600-1637091000@www.nssbethel.org
SUMMARY:Intermediate Conversational Hebrew Virtual with Silvi Freedson
DESCRIPTION:Class will not meet on 11/23/2021 \nClass Offerings and Descriptions \n \n 
URL:https://www.nssbethel.org/event/intermediate-conversational-hebrew-virtual-with-silvi-freedson-2021-11-16/
LOCATION:North Suburban Synagogue Beth El\, 1175 Sheridan Rd.\, Highland Park\, IL\, 60035\, United States
CATEGORIES:Continuing Education
END:VEVENT
BEGIN:VEVENT
DTSTART;TZID=America/Chicago:20211116T200000
DTEND;TZID=America/Chicago:20211116T210000
DTSTAMP:20260419T171428
CREATED:20210809T194620Z
LAST-MODIFIED:20210809T200245Z
UID:44473-1637092800-1637096400@www.nssbethel.org
SUMMARY:God During Times of Crisis (Hartman Class) In-Person with Rabbi Michael Schwab
DESCRIPTION:Class Offerings and Descriptions \n \n 
URL:https://www.nssbethel.org/event/god-during-times-of-crisis-hartman-class-in-person-with-rabbi-michael-schwab-2021-11-16/
LOCATION:North Suburban Synagogue Beth El\, 1175 Sheridan Rd.\, Highland Park\, IL\, 60035\, United States
CATEGORIES:Continuing Education
END:VEVENT
END:VCALENDAR