BEGIN:VCALENDAR
VERSION:2.0
PRODID:-//North Suburban Synagogue Beth El - ECPv5.16.1.1//NONSGML v1.0//EN
CALSCALE:GREGORIAN
METHOD:PUBLISH
X-WR-CALNAME:North Suburban Synagogue Beth El
X-ORIGINAL-URL:https://www.nssbethel.org
X-WR-CALDESC:Events for North Suburban Synagogue Beth El
BEGIN:VTIMEZONE
TZID:America/Chicago
BEGIN:DAYLIGHT
TZOFFSETFROM:-0600
TZOFFSETTO:-0500
TZNAME:CDT
DTSTART:20220313T080000
END:DAYLIGHT
BEGIN:STANDARD
TZOFFSETFROM:-0500
TZOFFSETTO:-0600
TZNAME:CST
DTSTART:20221106T070000
END:STANDARD
END:VTIMEZONE
BEGIN:VEVENT
DTSTART;TZID=America/Chicago:20220430T090000
DTEND;TZID=America/Chicago:20220430T120000
DTSTAMP:20260424T165857
CREATED:20210716T151237Z
LAST-MODIFIED:20210716T151237Z
UID:43106-1651309200-1651320000@www.nssbethel.org
SUMMARY:Shabbat Service
DESCRIPTION:
URL:https://www.nssbethel.org/event/shabbat-service-2022-04-30/
LOCATION:North Suburban Synagogue Beth El\, 1175 Sheridan Rd.\, Highland Park\, IL\, 60035\, United States
CATEGORIES:Worship
END:VEVENT
BEGIN:VEVENT
DTSTART;TZID=America/Chicago:20220430T103000
DTEND;TZID=America/Chicago:20220430T120000
DTSTAMP:20260424T165857
CREATED:20210716T162223Z
LAST-MODIFIED:20220303T215922Z
UID:43263-1651314600-1651320000@www.nssbethel.org
SUMMARY:Jr. Congregation
DESCRIPTION:
URL:https://www.nssbethel.org/event/jr-congregation-2022-04-30/
LOCATION:North Suburban Synagogue Beth El\, 1175 Sheridan Rd.\, Highland Park\, IL\, 60035\, United States
CATEGORIES:Worship
END:VEVENT
BEGIN:VEVENT
DTSTART;TZID=America/Chicago:20220430T110000
DTEND;TZID=America/Chicago:20220430T120000
DTSTAMP:20260424T165857
CREATED:20210716T161939Z
LAST-MODIFIED:20220204T205419Z
UID:43222-1651316400-1651320000@www.nssbethel.org
SUMMARY:Tot Shabbat Service
DESCRIPTION:
URL:https://www.nssbethel.org/event/tot-shabbat-service-2022-04-30/
LOCATION:North Suburban Synagogue Beth El\, 1175 Sheridan Rd.\, Highland Park\, IL\, 60035\, United States
CATEGORIES:Worship
END:VEVENT
BEGIN:VEVENT
DTSTART;TZID=America/Chicago:20220430T203600
DTEND;TZID=America/Chicago:20220430T203600
DTSTAMP:20260424T165857
CREATED:20220304T171148Z
LAST-MODIFIED:20220304T171148Z
UID:48442-1651350960-1651350960@www.nssbethel.org
SUMMARY:Shabbat Ends
DESCRIPTION:
URL:https://www.nssbethel.org/event/shabbat-ends-6-2022-04-30/
LOCATION:1175 Sheridan Rd\, Highland Park\, IL\, 60035\, United States
CATEGORIES:Worship
END:VEVENT
BEGIN:VEVENT
DTSTART;TZID=America/Chicago:20220430T204000
DTEND;TZID=America/Chicago:20220430T204000
DTSTAMP:20260424T165857
CREATED:20220304T173331Z
LAST-MODIFIED:20220304T173331Z
UID:48454-1651351200-1651351200@www.nssbethel.org
SUMMARY:Maariv/Havdalah
DESCRIPTION:
URL:https://www.nssbethel.org/event/maariv-havdalah-5-2022-04-30/
LOCATION:North Suburban Synagogue Beth El\, 1175 Sheridan Rd.\, Highland Park\, IL\, 60035\, United States
CATEGORIES:Worship
END:VEVENT
END:VCALENDAR