BEGIN:VCALENDAR
VERSION:2.0
PRODID:-//North Suburban Synagogue Beth El - ECPv5.16.1.1//NONSGML v1.0//EN
CALSCALE:GREGORIAN
METHOD:PUBLISH
X-WR-CALNAME:North Suburban Synagogue Beth El
X-ORIGINAL-URL:https://www.nssbethel.org
X-WR-CALDESC:Events for North Suburban Synagogue Beth El
BEGIN:VTIMEZONE
TZID:America/Chicago
BEGIN:DAYLIGHT
TZOFFSETFROM:-0600
TZOFFSETTO:-0500
TZNAME:CDT
DTSTART:20220313T080000
END:DAYLIGHT
BEGIN:STANDARD
TZOFFSETFROM:-0500
TZOFFSETTO:-0600
TZNAME:CST
DTSTART:20221106T070000
END:STANDARD
END:VTIMEZONE
BEGIN:VEVENT
DTSTART;TZID=America/Chicago:20220402T090000
DTEND;TZID=America/Chicago:20220402T120000
DTSTAMP:20260423T041533
CREATED:20210716T151237Z
LAST-MODIFIED:20210716T151237Z
UID:43102-1648890000-1648900800@www.nssbethel.org
SUMMARY:Shabbat Service
DESCRIPTION:
URL:https://www.nssbethel.org/event/shabbat-service-2022-04-02/
LOCATION:North Suburban Synagogue Beth El\, 1175 Sheridan Rd.\, Highland Park\, IL\, 60035\, United States
CATEGORIES:Worship
END:VEVENT
BEGIN:VEVENT
DTSTART;TZID=America/Chicago:20220402T103000
DTEND;TZID=America/Chicago:20220402T120000
DTSTAMP:20260423T041533
CREATED:20210716T162223Z
LAST-MODIFIED:20220303T215918Z
UID:43259-1648895400-1648900800@www.nssbethel.org
SUMMARY:Jr. Congregation
DESCRIPTION:
URL:https://www.nssbethel.org/event/jr-congregation-2022-04-02/
LOCATION:North Suburban Synagogue Beth El\, 1175 Sheridan Rd.\, Highland Park\, IL\, 60035\, United States
CATEGORIES:Worship
END:VEVENT
BEGIN:VEVENT
DTSTART;TZID=America/Chicago:20220402T110000
DTEND;TZID=America/Chicago:20220402T120000
DTSTAMP:20260423T041533
CREATED:20210716T161939Z
LAST-MODIFIED:20220204T205416Z
UID:43218-1648897200-1648900800@www.nssbethel.org
SUMMARY:Tot Shabbat Service
DESCRIPTION:
URL:https://www.nssbethel.org/event/tot-shabbat-service-2022-04-02/
LOCATION:North Suburban Synagogue Beth El\, 1175 Sheridan Rd.\, Highland Park\, IL\, 60035\, United States
CATEGORIES:Worship
END:VEVENT
BEGIN:VEVENT
DTSTART;TZID=America/Chicago:20220402T200100
DTEND;TZID=America/Chicago:20220402T200100
DTSTAMP:20260423T041533
CREATED:20220203T203930Z
LAST-MODIFIED:20220303T215750Z
UID:48094-1648929660-1648929660@www.nssbethel.org
SUMMARY:Shabbat Ends
DESCRIPTION:
URL:https://www.nssbethel.org/event/shabbat-ends-4-2022-04-02/
LOCATION:North Suburban Synagogue Beth El\, 1175 Sheridan Rd.\, Highland Park\, IL\, 60035\, United States
CATEGORIES:Worship
END:VEVENT
END:VCALENDAR