BEGIN:VCALENDAR
VERSION:2.0
PRODID:-//North Suburban Synagogue Beth El - ECPv5.16.1.1//NONSGML v1.0//EN
CALSCALE:GREGORIAN
METHOD:PUBLISH
X-WR-CALNAME:North Suburban Synagogue Beth El
X-ORIGINAL-URL:https://www.nssbethel.org
X-WR-CALDESC:Events for North Suburban Synagogue Beth El
BEGIN:VTIMEZONE
TZID:America/Chicago
BEGIN:DAYLIGHT
TZOFFSETFROM:-0600
TZOFFSETTO:-0500
TZNAME:CDT
DTSTART:20260308T080000
END:DAYLIGHT
BEGIN:STANDARD
TZOFFSETFROM:-0500
TZOFFSETTO:-0600
TZNAME:CST
DTSTART:20261101T070000
END:STANDARD
END:VTIMEZONE
BEGIN:VEVENT
DTSTART;TZID=America/Chicago:20260425T090000
DTEND;TZID=America/Chicago:20260425T090000
DTSTAMP:20260420T065935
CREATED:20260420T053105Z
LAST-MODIFIED:20260420T053105Z
UID:72003-1777107600-1777107600@www.nssbethel.org
SUMMARY:Worship: Avi Freedman’s Bar Mitzvah
DESCRIPTION:Saturday\, April 25 \n9:00 am \nADD TO CALENDAR \nJoin us with great joy as Avi Freedman is called to the Torah and becomes a Bar Mitzvah at North Suburban Synagogue Beth El. A Kiddush lunch will follow the service. \nRSVP REQUIRED BY FRIDAY\, APRIL 17
URL:https://www.nssbethel.org/event/worship-avi-freedmans-bar-mitzvah/
CATEGORIES:Congregational
ATTACH;FMTTYPE=image/png:https://www.nssbethel.org/wp-content/uploads/2026/04/Screenshot-2026-04-20-at-12.30.42-AM.png
END:VEVENT
END:VCALENDAR