BEGIN:VCALENDAR
VERSION:2.0
PRODID:-//North Suburban Synagogue Beth El - ECPv5.16.1.1//NONSGML v1.0//EN
CALSCALE:GREGORIAN
METHOD:PUBLISH
X-WR-CALNAME:North Suburban Synagogue Beth El
X-ORIGINAL-URL:https://www.nssbethel.org
X-WR-CALDESC:Events for North Suburban Synagogue Beth El
BEGIN:VTIMEZONE
TZID:America/Chicago
BEGIN:DAYLIGHT
TZOFFSETFROM:-0600
TZOFFSETTO:-0500
TZNAME:CDT
DTSTART:20260308T080000
END:DAYLIGHT
BEGIN:STANDARD
TZOFFSETFROM:-0500
TZOFFSETTO:-0600
TZNAME:CST
DTSTART:20261101T070000
END:STANDARD
END:VTIMEZONE
BEGIN:VEVENT
DTSTART;TZID=America/Chicago:20260426T090000
DTEND;TZID=America/Chicago:20260426T140000
DTSTAMP:20260422T043219
CREATED:20260420T053844Z
LAST-MODIFIED:20260420T053922Z
UID:72010-1777194000-1777212000@www.nssbethel.org
SUMMARY:Sisterhood Presents:  ﻿Israel Museum Trunk Show
DESCRIPTION:Sunday\, April 26 \n9:00 am – 2:00 pm \nADD TO CALENDAR \nSince October 7th\, the Israel Museum in Jerusalem has faced repeated closures\, leading to long periods without visitors or tourism. With the current conflict\, the museum is once again closed. Purchases from this trunk show directly support the museum and the Israeli artists who create these pieces. Each item is inspired by the museum’s collections and thoughtfully made in Israel. Purchases can be made via cash or check to avoid credit card fees. \nWe’d welcome your assistance at any time\, 8:45 am – 3:00 pm. If your preferred time is already officially booked when you click on the volunteer link below\, please contact Judy Hirsch (judyhirsch724@gmail.com; 847-962-8121) or Sulie Holt (suliekaroholt@gmail.com; 847-558-3389) to let them know when you’d like to donate some time. We can always use more help! \nVOLUNTEER OPPORTUNITIES
URL:https://www.nssbethel.org/event/sisterhood-presents-israel-museum-trunk-show/
CATEGORIES:Congregational,Sisterhood
ATTACH;FMTTYPE=image/jpeg:https://www.nssbethel.org/wp-content/uploads/2026/04/topazRTD_3039-1-scaled.jpeg
END:VEVENT
END:VCALENDAR